BEGIN:VCALENDAR
VERSION:2.0
PRODID:-//OmniMagnetCalendar//EN
BEGIN:VEVENT
DTSTAMP:20190625T195740Z
STATUS:CONFIRMED
UID:hrcvermont.clubs.harvard.edu114
DTSTART:20171019T160000Z
DTEND:20171019T190000Z
LOCATION:University of Vermont Alumni House, 61 Summit Street, Burlington, VT, 05401,
SUMMARY:Club Annual Meeting Featuring Gov. Madeleine Kunin
DESCRIPTION:The evening will open with a musical offering by SP Reid '15 and be followed by a conversation with Gov. Madeleine Kunin: "Hillary, Trump and the Future of Women in Politics." Please click the link to RSVP yes.
BEGIN:VALARM
TRIGGER:-PT15M
ACTION:DISPLAY
END:VALARM
TRANSP:OPAQUE
END:VEVENT
END:VCALENDAR
