BEGIN:VCALENDAR
VERSION:2.0
PRODID:-//OmniMagnetCalendar//EN
BEGIN:VEVENT
DTSTAMP:20190625T195740Z
STATUS:CONFIRMED
UID:hrcvermont.clubs.harvard.edu117
DTSTART:20180109T160000Z
DTEND:20180109T180000Z
LOCATION:Zero Gravity Brewery, 716 Pine Street, Burlington, VT, 05401, USA,
SUMMARY:Global Networking Night at Zero Gravity Brewery
DESCRIPTION:
BEGIN:VALARM
TRIGGER:-PT15M
ACTION:DISPLAY
END:VALARM
TRANSP:OPAQUE
END:VEVENT
END:VCALENDAR
