BEGIN:VCALENDAR
VERSION:2.0
PRODID:-//OmniMagnetCalendar//EN
BEGIN:VEVENT
DTSTAMP:20190625T195740Z
STATUS:CONFIRMED
UID:hrcvermont.clubs.harvard.edu120
DTSTART:20181117T100000Z
DTEND:20181117T140000Z
LOCATION:
SUMMARY:Harvard-Yale Game Watch Parties
DESCRIPTION:Cheer on the Crimson at one of our two Vermont watch parties! Click for more info and to RSVP
BEGIN:VALARM
TRIGGER:-PT15M
ACTION:DISPLAY
END:VALARM
TRANSP:OPAQUE
END:VEVENT
END:VCALENDAR
