BEGIN:VCALENDAR
VERSION:2.0
PRODID:-//OmniMagnetCalendar//EN
BEGIN:VEVENT
DTSTAMP:20190625T195740Z
STATUS:CONFIRMED
UID:hrcvermont.clubs.harvard.edu121
DTSTART:20190109T160000Z
DTEND:20190109T183000Z
LOCATION:Queen City Brewery, 703 Pine Street, Burlington, VT, 05401,
SUMMARY:Global Networking Night
DESCRIPTION:Join us at Queen City Brewery for the annual Harvard global networking night! Our Burlington event will be one of hundreds of similar events taking place simultaneously across the world!
BEGIN:VALARM
TRIGGER:-PT15M
ACTION:DISPLAY
END:VALARM
TRANSP:OPAQUE
END:VEVENT
END:VCALENDAR
