BEGIN:VCALENDAR
VERSION:2.0
PRODID:-//OmniMagnetCalendar//EN
BEGIN:VEVENT
DTSTAMP:20190625T195740Z
STATUS:CONFIRMED
UID:hrcvermont.clubs.harvard.edu122
DTSTART:20190112T170000Z
DTEND:20190112T190000Z
LOCATION:Queen City Brewery, 703 Pine Street, Burlington, VT, 05401,
SUMMARY:Harvard-Dartmouth Men's Basketball Game
DESCRIPTION:Join fellow Harvard alumni to watch the Harvard-Dartmouth Men's Basketball Game on Saturday, January 12th at Dartmouth's Leede Arena in Hanover, NH!
BEGIN:VALARM
TRIGGER:-PT15M
ACTION:DISPLAY
END:VALARM
TRANSP:OPAQUE
END:VEVENT
END:VCALENDAR
