BEGIN:VCALENDAR
VERSION:2.0
PRODID:-//OmniMagnetCalendar//EN
BEGIN:VEVENT
DTSTAMP:20190625T195740Z
STATUS:CONFIRMED
UID:hrcvermont.clubs.harvard.edu125
DTSTART:20190222T150000Z
DTEND:20190222T180000Z
LOCATION:Nectar's Restaurant, 188 Main Street, Burlington, VT, 05401,
SUMMARY:Alumni Social: Welcome a visiting group of Harvard Kennedy School students
DESCRIPTION:Please join us for an alumni social on Friday, February 22nd. A group of Kennedy School students is in town and would love to connect with local alumni!
BEGIN:VALARM
TRIGGER:-PT15M
ACTION:DISPLAY
END:VALARM
TRANSP:OPAQUE
END:VEVENT
END:VCALENDAR
