BEGIN:VCALENDAR
VERSION:2.0
PRODID:-//OmniMagnetCalendar//EN
BEGIN:VEVENT
DTSTAMP:20190625T195740Z
STATUS:CONFIRMED
UID:hrcvermont.clubs.harvard.edu126
DTSTART:20190406T090000Z
DTEND:20190406T130000Z
LOCATION:Murphy's on the Green, 11 South Main Street, Hanover, NH, 03755,
SUMMARY:Dartmouth Hood Museum of Art Opening
DESCRIPTION:Please join us on Saturday, April 6th at the restaurant, Murphy's on the Green (11 S Main Street, Hanover NH) at 12PM for appetizers. At 1PM we will walk across the street to The Hood Museum of Art.
BEGIN:VALARM
TRIGGER:-PT15M
ACTION:DISPLAY
END:VALARM
TRANSP:OPAQUE
END:VEVENT
END:VCALENDAR
