BEGIN:VCALENDAR
VERSION:2.0
PRODID:-//OmniMagnetCalendar//EN
BEGIN:VEVENT
DTSTAMP:20190625T195740Z
STATUS:CONFIRMED
UID:hrcvermont.clubs.harvard.edu127
DTSTART:20191002T213000Z
DTEND:20191003T003000Z
LOCATION:Foam Brewers, 112 Lake Street, Burlington, VT, 05401,
SUMMARY:Welcome to Your City Event: Young Members Celebration
DESCRIPTION:Please join us on October 2nd to welcome the Class of 2019! We will be coming together to mingle and meet the young Harvard professionals who have chosen to make Vermont their home.
BEGIN:VALARM
TRIGGER:-PT15M
ACTION:DISPLAY
END:VALARM
TRANSP:OPAQUE
END:VEVENT
END:VCALENDAR
