BEGIN:VCALENDAR
VERSION:2.0
PRODID:-//OmniMagnetCalendar//EN
BEGIN:VEVENT
DTSTAMP:20190625T195740Z
STATUS:CONFIRMED
UID:hrcvermont.clubs.harvard.edu129
DTSTART:20191029T220000Z
DTEND:20191030T003000Z
LOCATION:Caledonia Spirits, 116 Gin Lane, Montpelier, VT, 05602, USA,
SUMMARY:Annual Meeting Featuring Guest Speaker Dr. Andrew Rosenfeld
DESCRIPTION:Please join us for our 2019 annual meeting. The evening will feature a presentation and Q&A with Dr. Andrew Rosenfeld on the topic of "Practicing Happiness: The Science of Wellbeing."
BEGIN:VALARM
TRIGGER:-PT15M
ACTION:DISPLAY
END:VALARM
TRANSP:OPAQUE
END:VEVENT
END:VCALENDAR
