BEGIN:VCALENDAR
VERSION:2.0
PRODID:-//OmniMagnetCalendar//EN
BEGIN:VEVENT
DTSTAMP:20190625T195740Z
STATUS:CONFIRMED
UID:hrcvermont.clubs.harvard.edu149
DTSTART:20220707T210000Z
DTEND:20220707T230000Z
LOCATION:Harpoon Brewery, 336 Ruth Carney Drive, Windsor, VT, 05089,
SUMMARY:Summer Social Series: Harpoon Brewery
DESCRIPTION:Join us for a Harvard-Yale mixer at Harpoon Brewery in Windsor, Vermont
BEGIN:VALARM
TRIGGER:-PT15M
ACTION:DISPLAY
END:VALARM
TRANSP:OPAQUE
END:VEVENT
END:VCALENDAR
