BEGIN:VCALENDAR
VERSION:2.0
PRODID:-//OmniMagnetCalendar//EN
BEGIN:VEVENT
DTSTAMP:20190625T195740Z
STATUS:CONFIRMED
UID:hrcvermont.clubs.harvard.edu160
DTSTART:20241102T150000Z
DTEND:20241102T173000Z
LOCATION:Sawtooth Kitchen, Under, Allen St, Hanover, NH, 03755,
SUMMARY:Harvard-Dartmouth Football Game
DESCRIPTION:The Harvard Clubs of New Hampshire and Vermont invite you to join us for the Harvard-Dartmouth Football Game on November 2nd in Hanover, NH. There will be a Harvard alumni gathering prior to the game – we hope to see you there!
BEGIN:VALARM
TRIGGER:-PT15M
ACTION:DISPLAY
END:VALARM
TRANSP:OPAQUE
END:VEVENT
END:VCALENDAR
