BEGIN:VCALENDAR
VERSION:2.0
PRODID:-//OmniMagnetCalendar//EN
BEGIN:VEVENT
DTSTAMP:20190625T195740Z
STATUS:CONFIRMED
UID:hrcvermont.clubs.harvard.edu167
DTSTART:20260108T230000Z
DTEND:20260109T000000Z
LOCATION:Virtual,
SUMMARY:Faculty Speaker Event: Professor Daniel Nocera
DESCRIPTION:A virtual talk on the topic of "How artificial plant life could wipe out poverty" by Daniel Nocera; Harvard's Patterson Rockwood Professor of Energy
BEGIN:VALARM
TRIGGER:-PT15M
ACTION:DISPLAY
END:VALARM
TRANSP:OPAQUE
END:VEVENT
END:VCALENDAR
